Package: maskBAD Version: 1.48.0 Command: /Library/Frameworks/R.framework/Resources/bin/R CMD INSTALL maskBAD StartedAt: 2024-10-16 15:17:56 -0400 (Wed, 16 Oct 2024) EndedAt: 2024-10-16 15:18:24 -0400 (Wed, 16 Oct 2024) EllapsedTime: 27.9 seconds RetCode: 0 Status: OK