Package: maskBAD Version: 1.48.0 Command: /Library/Frameworks/R.framework/Resources/bin/R CMD build --keep-empty-dirs --no-resave-data maskBAD StartedAt: 2024-10-16 20:31:18 -0400 (Wed, 16 Oct 2024) EndedAt: 2024-10-16 20:34:57 -0400 (Wed, 16 Oct 2024) EllapsedTime: 218.6 seconds RetCode: 0 Status: OK PackageFile: maskBAD_1.48.0.tar.gz PackageFileSize: 1.541 MiB