Package: maskBAD Version: 1.48.0 Command: /Library/Frameworks/R.framework/Resources/bin/R CMD INSTALL maskBAD StartedAt: 2024-10-16 15:56:04 -0400 (Wed, 16 Oct 2024) EndedAt: 2024-10-16 15:56:18 -0400 (Wed, 16 Oct 2024) EllapsedTime: 13.9 seconds RetCode: 0 Status: OK