Package: maskBAD Version: 1.48.0 Command: /Library/Frameworks/R.framework/Resources/bin/R CMD check --install=check:maskBAD.install-out.txt --library=/Library/Frameworks/R.framework/Resources/library --no-vignettes --timings maskBAD_1.48.0.tar.gz StartedAt: 2024-10-18 02:40:04 -0400 (Fri, 18 Oct 2024) EndedAt: 2024-10-18 02:41:50 -0400 (Fri, 18 Oct 2024) EllapsedTime: 106.8 seconds RetCode: 0 Status: OK CheckDir: maskBAD.Rcheck Warnings: 0