Package: maskBAD Version: 1.48.0 Command: /Library/Frameworks/R.framework/Resources/bin/R CMD build --keep-empty-dirs --no-resave-data maskBAD StartedAt: 2024-10-17 03:32:31 -0400 (Thu, 17 Oct 2024) EndedAt: 2024-10-17 03:34:19 -0400 (Thu, 17 Oct 2024) EllapsedTime: 107.4 seconds RetCode: 0 Status: OK PackageFile: maskBAD_1.48.0.tar.gz PackageFileSize: 1.541 MiB