Package: maser Version: 1.22.0 Command: rm -rf maser.buildbin-libdir && mkdir maser.buildbin-libdir && E:\biocbuild\bbs-3.19-bioc\R\bin\R.exe CMD INSTALL --build --library=maser.buildbin-libdir maser_1.22.0.tar.gz StartedAt: 2024-10-17 08:04:35 -0400 (Thu, 17 Oct 2024) EndedAt: 2024-10-17 08:05:58 -0400 (Thu, 17 Oct 2024) EllapsedTime: 82.7 seconds RetCode: 0 Status: OK PackageFile: maser_1.22.0.zip PackageFileSize: 3.23 MiB