Package: maser Version: 1.22.0 Command: F:\biocbuild\bbs-3.19-bioc\R\bin\R.exe CMD INSTALL maser StartedAt: 2024-06-26 16:22:50 -0400 (Wed, 26 Jun 2024) EndedAt: 2024-06-26 16:24:06 -0400 (Wed, 26 Jun 2024) EllapsedTime: 75.9 seconds RetCode: 0 Status: OK