Package: maser Version: 1.22.0 Command: rm -rf maser.buildbin-libdir && mkdir maser.buildbin-libdir && F:\biocbuild\bbs-3.19-bioc\R\bin\R.exe CMD INSTALL --build --library=maser.buildbin-libdir maser_1.22.0.tar.gz StartedAt: 2024-06-27 08:27:00 -0400 (Thu, 27 Jun 2024) EndedAt: 2024-06-27 08:28:11 -0400 (Thu, 27 Jun 2024) EllapsedTime: 71.5 seconds RetCode: 0 Status: OK PackageFile: maser_1.22.0.zip PackageFileSize: 3.232 MiB