Package: maser Version: 1.22.0 Command: /home/biocbuild/bbs-3.19-bioc/R/bin/R CMD build --keep-empty-dirs --no-resave-data maser StartedAt: 2024-10-16 19:16:23 -0400 (Wed, 16 Oct 2024) EndedAt: 2024-10-16 19:19:04 -0400 (Wed, 16 Oct 2024) EllapsedTime: 161.3 seconds RetCode: 0 Status: OK PackageFile: maser_1.22.0.tar.gz PackageFileSize: 2.831 MiB