Package: maser Version: 1.22.0 Command: /Library/Frameworks/R.framework/Resources/bin/R CMD INSTALL maser StartedAt: 2024-10-16 16:05:47 -0400 (Wed, 16 Oct 2024) EndedAt: 2024-10-16 16:07:51 -0400 (Wed, 16 Oct 2024) EllapsedTime: 124.6 seconds RetCode: 0 Status: OK