Package: maser Version: 1.22.0 Command: /Library/Frameworks/R.framework/Resources/bin/R CMD build --keep-empty-dirs --no-resave-data maser StartedAt: 2024-10-16 20:30:54 -0400 (Wed, 16 Oct 2024) EndedAt: 2024-10-16 20:36:40 -0400 (Wed, 16 Oct 2024) EllapsedTime: 346.3 seconds RetCode: 0 Status: OK PackageFile: maser_1.22.0.tar.gz PackageFileSize: 3.017 MiB