Package: maser Version: 1.22.0 Command: /Library/Frameworks/R.framework/Resources/bin/R CMD check --install=check:maser.install-out.txt --library=/Library/Frameworks/R.framework/Resources/library --no-vignettes --timings maser_1.22.0.tar.gz StartedAt: 2024-06-10 20:36:01 -0400 (Mon, 10 Jun 2024) EndedAt: 2024-06-10 20:48:11 -0400 (Mon, 10 Jun 2024) EllapsedTime: 730.2 seconds RetCode: 0 Status: OK CheckDir: maser.Rcheck Warnings: 0