Package: maser Version: 1.22.0 Command: /Library/Frameworks/R.framework/Resources/bin/R CMD INSTALL maser StartedAt: 2024-10-16 17:23:12 -0400 (Wed, 16 Oct 2024) EndedAt: 2024-10-16 17:24:19 -0400 (Wed, 16 Oct 2024) EllapsedTime: 67.1 seconds RetCode: 0 Status: OK