Package: martini Version: 1.24.0 Command: rm -rf martini.buildbin-libdir && mkdir martini.buildbin-libdir && E:\biocbuild\bbs-3.19-bioc\R\bin\R.exe CMD INSTALL --build --library=martini.buildbin-libdir martini_1.24.0.tar.gz StartedAt: 2024-10-17 08:04:34 -0400 (Thu, 17 Oct 2024) EndedAt: 2024-10-17 08:05:15 -0400 (Thu, 17 Oct 2024) EllapsedTime: 40.7 seconds RetCode: 0 Status: OK PackageFile: martini_1.24.0.zip PackageFileSize: 847.4 KiB