Package: martini Version: 1.24.0 Command: /Library/Frameworks/R.framework/Resources/bin/R CMD check --install=check:martini.install-out.txt --library=/Library/Frameworks/R.framework/Resources/library --no-vignettes --timings martini_1.24.0.tar.gz StartedAt: 2024-10-17 07:39:14 -0400 (Thu, 17 Oct 2024) EndedAt: 2024-10-17 07:44:57 -0400 (Thu, 17 Oct 2024) EllapsedTime: 343.2 seconds RetCode: 0 Status: OK CheckDir: martini.Rcheck Warnings: 0