Package: marr Version: 1.14.0 Command: E:\biocbuild\bbs-3.19-bioc\R\bin\R.exe CMD INSTALL marr StartedAt: 2024-10-16 16:18:21 -0400 (Wed, 16 Oct 2024) EndedAt: 2024-10-16 16:19:04 -0400 (Wed, 16 Oct 2024) EllapsedTime: 42.5 seconds RetCode: 0 Status: OK