Package: marr Version: 1.14.0 Command: E:\biocbuild\bbs-3.19-bioc\R\bin\R.exe CMD check --no-multiarch --install=check:marr.install-out.txt --library=E:\biocbuild\bbs-3.19-bioc\R\library --no-vignettes --timings marr_1.14.0.tar.gz StartedAt: 2024-10-17 02:54:53 -0400 (Thu, 17 Oct 2024) EndedAt: 2024-10-17 02:58:53 -0400 (Thu, 17 Oct 2024) EllapsedTime: 239.8 seconds RetCode: 0 Status: OK CheckDir: marr.Rcheck Warnings: 0