Package: marr Version: 1.14.0 Command: chmod a+r marr -R && E:\biocbuild\bbs-3.19-bioc\R\bin\R.exe CMD build --keep-empty-dirs --no-resave-data marr StartedAt: 2024-10-16 20:03:54 -0400 (Wed, 16 Oct 2024) EndedAt: 2024-10-16 20:04:54 -0400 (Wed, 16 Oct 2024) EllapsedTime: 60.0 seconds RetCode: 0 Status: OK PackageFile: marr_1.14.0.tar.gz PackageFileSize: 584.2 KiB