Package: marr Version: 1.14.0 Command: rm -rf marr.buildbin-libdir && mkdir marr.buildbin-libdir && E:\biocbuild\bbs-3.19-bioc\R\bin\R.exe CMD INSTALL --build --library=marr.buildbin-libdir marr_1.14.0.tar.gz StartedAt: 2024-10-17 08:04:31 -0400 (Thu, 17 Oct 2024) EndedAt: 2024-10-17 08:05:09 -0400 (Thu, 17 Oct 2024) EllapsedTime: 38.6 seconds RetCode: 0 Status: OK PackageFile: marr_1.14.0.zip PackageFileSize: 1.088 MiB