Package: marr Version: 1.14.0 Command: chmod a+r marr -R && F:\biocbuild\bbs-3.19-bioc\R\bin\R.exe CMD build --keep-empty-dirs --no-resave-data marr StartedAt: 2024-06-26 19:49:04 -0400 (Wed, 26 Jun 2024) EndedAt: 2024-06-26 19:50:10 -0400 (Wed, 26 Jun 2024) EllapsedTime: 66.6 seconds RetCode: 0 Status: OK PackageFile: marr_1.14.0.tar.gz PackageFileSize: 584.1 KiB