Package: marr Version: 1.14.0 Command: rm -rf marr.buildbin-libdir && mkdir marr.buildbin-libdir && F:\biocbuild\bbs-3.19-bioc\R\bin\R.exe CMD INSTALL --build --library=marr.buildbin-libdir marr_1.14.0.tar.gz StartedAt: 2024-06-27 08:26:55 -0400 (Thu, 27 Jun 2024) EndedAt: 2024-06-27 08:28:02 -0400 (Thu, 27 Jun 2024) EllapsedTime: 67.1 seconds RetCode: 0 Status: OK PackageFile: marr_1.14.0.zip PackageFileSize: 1.08 MiB