Package: marr Version: 1.14.0 Command: /home/biocbuild/bbs-3.19-bioc/R/bin/R CMD check --install=check:marr.install-out.txt --library=/home/biocbuild/bbs-3.19-bioc/R/site-library --timings marr_1.14.0.tar.gz StartedAt: 2024-10-17 02:00:48 -0400 (Thu, 17 Oct 2024) EndedAt: 2024-10-17 02:04:20 -0400 (Thu, 17 Oct 2024) EllapsedTime: 211.5 seconds RetCode: 0 Status: OK CheckDir: marr.Rcheck Warnings: 0