Package: marr Version: 1.14.0 Command: /home/biocbuild/bbs-3.19-bioc/R/bin/R CMD build --keep-empty-dirs --no-resave-data marr StartedAt: 2024-10-16 19:15:48 -0400 (Wed, 16 Oct 2024) EndedAt: 2024-10-16 19:16:33 -0400 (Wed, 16 Oct 2024) EllapsedTime: 45.1 seconds RetCode: 0 Status: OK PackageFile: marr_1.14.0.tar.gz PackageFileSize: 588.4 KiB