Package: marr Version: 1.14.0 Command: rm -rf marr.buildbin-libdir && mkdir marr.buildbin-libdir && /Users/biocbuild/BBS/utils/build-universal.sh marr_1.14.0.tar.gz /Library/Frameworks/R.framework/Resources/bin/R marr.buildbin-libdir StartedAt: 2024-10-17 16:30:14 -0400 (Thu, 17 Oct 2024) EndedAt: 2024-10-17 16:31:30 -0400 (Thu, 17 Oct 2024) EllapsedTime: 76.3 seconds RetCode: 0 Status: OK PackageFile: marr_1.14.0.tgz PackageFileSize: 803.5 KiB