Package: marr Version: 1.14.0 Command: /Library/Frameworks/R.framework/Resources/bin/R CMD check --install=check:marr.install-out.txt --library=/Library/Frameworks/R.framework/Resources/library --no-vignettes --timings marr_1.14.0.tar.gz StartedAt: 2024-06-09 21:17:10 -0400 (Sun, 09 Jun 2024) EndedAt: 2024-06-09 21:22:04 -0400 (Sun, 09 Jun 2024) EllapsedTime: 294.5 seconds RetCode: 0 Status: OK CheckDir: marr.Rcheck Warnings: 0