Package: marr Version: 1.14.0 Command: /home/biocbuild/R/R-beta-2024-04-15_r86425/bin/R CMD check --install=check:marr.install-out.txt --library=/home/biocbuild/R/R-beta-2024-04-15_r86425/site-library --no-vignettes --timings marr_1.14.0.tar.gz StartedAt: 2024-05-09 08:59:57 -0000 (Thu, 09 May 2024) EndedAt: 2024-05-09 09:04:07 -0000 (Thu, 09 May 2024) EllapsedTime: 249.5 seconds RetCode: 0 Status: OK CheckDir: marr.Rcheck Warnings: 0