Package: marr Version: 1.14.0 Command: rm -rf marr.buildbin-libdir && mkdir marr.buildbin-libdir && /Users/biocbuild/BBS/utils/build-universal.sh marr_1.14.0.tar.gz /Library/Frameworks/R.framework/Resources/bin/R marr.buildbin-libdir StartedAt: 2024-06-11 11:53:34 -0400 (Tue, 11 Jun 2024) EndedAt: 2024-06-11 11:54:37 -0400 (Tue, 11 Jun 2024) EllapsedTime: 62.4 seconds RetCode: 0 Status: OK PackageFile: marr_1.14.0.tgz PackageFileSize: 800.7 KiB