Package: marr Version: 1.14.0 Command: /Library/Frameworks/R.framework/Resources/bin/R CMD check --install=check:marr.install-out.txt --library=/Library/Frameworks/R.framework/Resources/library --no-vignettes --timings marr_1.14.0.tar.gz StartedAt: 2024-10-18 02:35:40 -0400 (Fri, 18 Oct 2024) EndedAt: 2024-10-18 02:40:04 -0400 (Fri, 18 Oct 2024) EllapsedTime: 263.4 seconds RetCode: 0 Status: OK CheckDir: marr.Rcheck Warnings: 0