Package: marr Version: 1.14.0 Command: /Library/Frameworks/R.framework/Resources/bin/R CMD build --keep-empty-dirs --no-resave-data marr StartedAt: 2024-10-17 03:30:12 -0400 (Thu, 17 Oct 2024) EndedAt: 2024-10-17 03:31:13 -0400 (Thu, 17 Oct 2024) EllapsedTime: 61.2 seconds RetCode: 0 Status: OK PackageFile: marr_1.14.0.tar.gz PackageFileSize: 590.8 KiB