Package: marr Version: 1.14.0 Command: rm -rf marr.buildbin-libdir && mkdir marr.buildbin-libdir && /Users/biocbuild/BBS/utils/build-universal.sh marr_1.14.0.tar.gz /Library/Frameworks/R.framework/Resources/bin/R marr.buildbin-libdir StartedAt: 2024-10-18 19:14:05 -0400 (Fri, 18 Oct 2024) EndedAt: 2024-10-18 19:14:48 -0400 (Fri, 18 Oct 2024) EllapsedTime: 43.0 seconds RetCode: 0 Status: OK PackageFile: marr_1.14.0.tgz PackageFileSize: 802.6 KiB