Package: mariner Version: 1.4.0 Command: E:\biocbuild\bbs-3.19-bioc\R\bin\R.exe CMD INSTALL mariner StartedAt: 2024-10-16 16:36:08 -0400 (Wed, 16 Oct 2024) EndedAt: 2024-10-16 16:37:31 -0400 (Wed, 16 Oct 2024) EllapsedTime: 82.9 seconds RetCode: 0 Status: OK