Package: mariner Version: 1.4.0 Command: rm -rf mariner.buildbin-libdir && mkdir mariner.buildbin-libdir && E:\biocbuild\bbs-3.19-bioc\R\bin\R.exe CMD INSTALL --build --library=mariner.buildbin-libdir mariner_1.4.0.tar.gz StartedAt: 2024-10-17 08:04:29 -0400 (Thu, 17 Oct 2024) EndedAt: 2024-10-17 08:06:00 -0400 (Thu, 17 Oct 2024) EllapsedTime: 91.2 seconds RetCode: 0 Status: OK PackageFile: mariner_1.4.0.zip PackageFileSize: 1.228 MiB