Package: mariner Version: 1.4.0 Command: /home/biocbuild/bbs-3.19-bioc/R/bin/R CMD build --keep-empty-dirs --no-resave-data mariner StartedAt: 2024-10-16 19:15:48 -0400 (Wed, 16 Oct 2024) EndedAt: 2024-10-16 19:17:35 -0400 (Wed, 16 Oct 2024) EllapsedTime: 107.2 seconds RetCode: 0 Status: OK PackageFile: mariner_1.4.0.tar.gz PackageFileSize: 705 KiB