Package: mariner Version: 1.4.0 Command: /Library/Frameworks/R.framework/Resources/bin/R CMD INSTALL mariner StartedAt: 2024-10-16 15:48:17 -0400 (Wed, 16 Oct 2024) EndedAt: 2024-10-16 15:49:58 -0400 (Wed, 16 Oct 2024) EllapsedTime: 101.4 seconds RetCode: 0 Status: OK