Package: mariner Version: 1.4.0 Command: /Library/Frameworks/R.framework/Resources/bin/R CMD check --install=check:mariner.install-out.txt --library=/Library/Frameworks/R.framework/Resources/library --no-vignettes --timings mariner_1.4.0.tar.gz StartedAt: 2024-10-17 07:38:54 -0400 (Thu, 17 Oct 2024) EndedAt: 2024-10-17 08:18:32 -0400 (Thu, 17 Oct 2024) EllapsedTime: 2377.8 seconds RetCode: 0 Status: OK CheckDir: mariner.Rcheck Warnings: 0