Package: mariner Version: 1.4.0 Command: rm -rf mariner.buildbin-libdir && mkdir mariner.buildbin-libdir && /Users/biocbuild/BBS/utils/build-universal.sh mariner_1.4.0.tar.gz /Library/Frameworks/R.framework/Resources/bin/R mariner.buildbin-libdir StartedAt: 2024-10-17 16:30:12 -0400 (Thu, 17 Oct 2024) EndedAt: 2024-10-17 16:31:59 -0400 (Thu, 17 Oct 2024) EllapsedTime: 107.1 seconds RetCode: 0 Status: OK PackageFile: mariner_1.4.0.tgz PackageFileSize: 1.221 MiB