Package: mariner Version: 1.4.0 Command: rm -rf mariner.buildbin-libdir && mkdir mariner.buildbin-libdir && /Users/biocbuild/BBS/utils/build-universal.sh mariner_1.4.0.tar.gz /Library/Frameworks/R.framework/Resources/bin/R mariner.buildbin-libdir StartedAt: 2024-06-11 11:53:27 -0400 (Tue, 11 Jun 2024) EndedAt: 2024-06-11 11:54:49 -0400 (Tue, 11 Jun 2024) EllapsedTime: 82.2 seconds RetCode: 0 Status: OK PackageFile: mariner_1.4.0.tgz PackageFileSize: 1.225 MiB