Package: mariner Version: 1.4.0 Command: /Library/Frameworks/R.framework/Resources/bin/R CMD check --install=check:mariner.install-out.txt --library=/Library/Frameworks/R.framework/Resources/library --no-vignettes --timings mariner_1.4.0.tar.gz StartedAt: 2024-10-18 02:33:05 -0400 (Fri, 18 Oct 2024) EndedAt: 2024-10-18 02:45:14 -0400 (Fri, 18 Oct 2024) EllapsedTime: 729.3 seconds RetCode: 0 Status: OK CheckDir: mariner.Rcheck Warnings: 0