Package: mariner Version: 1.4.0 Maintainer: Eric Davis MaintainerEmail: ericscottdavis at outlook.com git_url: https://git.bioconductor.org/packages/mariner git_branch: RELEASE_3_19 git_last_commit: 5d8df96 git_last_commit_date: 2024-04-30 11:49:21 -0400 (Tue, 30 Apr 2024)