Package: mapscape Version: 1.28.0 Command: chmod a+r mapscape -R && F:\biocbuild\bbs-3.19-bioc\R\bin\R.exe CMD build --keep-empty-dirs --no-resave-data mapscape StartedAt: 2024-06-26 19:48:47 -0400 (Wed, 26 Jun 2024) EndedAt: 2024-06-26 19:49:02 -0400 (Wed, 26 Jun 2024) EllapsedTime: 15.5 seconds RetCode: 0 Status: OK PackageFile: mapscape_1.28.0.tar.gz PackageFileSize: 4.795 MiB