Package: mapscape Version: 1.28.0 Command: rm -rf mapscape.buildbin-libdir && mkdir mapscape.buildbin-libdir && F:\biocbuild\bbs-3.19-bioc\R\bin\R.exe CMD INSTALL --build --library=mapscape.buildbin-libdir mapscape_1.28.0.tar.gz StartedAt: 2024-06-27 08:26:52 -0400 (Thu, 27 Jun 2024) EndedAt: 2024-06-27 08:27:05 -0400 (Thu, 27 Jun 2024) EllapsedTime: 13.2 seconds RetCode: 0 Status: OK PackageFile: mapscape_1.28.0.zip PackageFileSize: 4.136 MiB