Package: mapscape Version: 1.28.0 Command: /home/biocbuild/bbs-3.19-bioc/R/bin/R CMD build --keep-empty-dirs --no-resave-data mapscape StartedAt: 2024-10-16 19:15:38 -0400 (Wed, 16 Oct 2024) EndedAt: 2024-10-16 19:15:48 -0400 (Wed, 16 Oct 2024) EllapsedTime: 10.0 seconds RetCode: 0 Status: OK PackageFile: mapscape_1.28.0.tar.gz PackageFileSize: 4.794 MiB