Package: mapscape Version: 1.28.0 Command: /Library/Frameworks/R.framework/Resources/bin/R CMD build --keep-empty-dirs --no-resave-data mapscape StartedAt: 2024-06-09 17:08:18 -0400 (Sun, 09 Jun 2024) EndedAt: 2024-06-09 17:08:31 -0400 (Sun, 09 Jun 2024) EllapsedTime: 13.4 seconds RetCode: 0 Status: OK PackageFile: mapscape_1.28.0.tar.gz PackageFileSize: 4.794 MiB