Package: mapscape Version: 1.28.0 Command: /Library/Frameworks/R.framework/Resources/bin/R CMD INSTALL mapscape StartedAt: 2024-06-09 16:16:06 -0400 (Sun, 09 Jun 2024) EndedAt: 2024-06-09 16:16:12 -0400 (Sun, 09 Jun 2024) EllapsedTime: 5.5 seconds RetCode: 0 Status: OK