Package: mapscape Version: 1.28.0 Maintainer: Maia Smith MaintainerEmail: maiaannesmith at gmail.com git_url: https://git.bioconductor.org/packages/mapscape git_branch: RELEASE_3_19 git_last_commit: 78a4be4 git_last_commit_date: 2024-04-30 10:56:23 -0400 (Tue, 30 Apr 2024)