Package: makecdfenv Version: 1.80.0 Command: /home/biocbuild/R/R-beta-2024-04-15_r86425/bin/R CMD build --keep-empty-dirs --no-resave-data makecdfenv StartedAt: 2024-05-09 01:20:26 -0000 (Thu, 09 May 2024) EndedAt: 2024-05-09 01:20:36 -0000 (Thu, 09 May 2024) EllapsedTime: 10.0 seconds RetCode: 0 Status: OK PackageFile: makecdfenv_1.80.0.tar.gz PackageFileSize: 3.25 MiB