Package: makecdfenv Version: 1.80.0 Command: /Library/Frameworks/R.framework/Resources/bin/R CMD INSTALL makecdfenv StartedAt: 2024-10-16 15:40:53 -0400 (Wed, 16 Oct 2024) EndedAt: 2024-10-16 15:41:01 -0400 (Wed, 16 Oct 2024) EllapsedTime: 8.8 seconds RetCode: 0 Status: OK