Package: maigesPack Version: 1.68.0 Command: rm -rf maigesPack.buildbin-libdir && mkdir maigesPack.buildbin-libdir && F:\biocbuild\bbs-3.19-bioc\R\bin\R.exe CMD INSTALL --build --library=maigesPack.buildbin-libdir maigesPack_1.68.0.tar.gz StartedAt: 2024-06-27 08:26:38 -0400 (Thu, 27 Jun 2024) EndedAt: 2024-06-27 08:27:07 -0400 (Thu, 27 Jun 2024) EllapsedTime: 28.7 seconds RetCode: 0 Status: OK PackageFile: maigesPack_1.68.0.zip PackageFileSize: 1.515 MiB