Package: maigesPack Version: 1.68.0 Command: /Library/Frameworks/R.framework/Resources/bin/R CMD check --install=check:maigesPack.install-out.txt --library=/Library/Frameworks/R.framework/Resources/library --no-vignettes --timings --no-examples maigesPack_1.68.0.tar.gz StartedAt: 2024-10-18 02:30:42 -0400 (Fri, 18 Oct 2024) EndedAt: 2024-10-18 02:31:53 -0400 (Fri, 18 Oct 2024) EllapsedTime: 71.5 seconds RetCode: 0 Status: OK CheckDir: maigesPack.Rcheck Warnings: 0