Package: maigesPack Version: 1.68.0 Maintainer: Gustavo H. Esteves MaintainerEmail: gesteves at gmail.com git_url: https://git.bioconductor.org/packages/maigesPack git_branch: RELEASE_3_19 git_last_commit: 5f6a01c git_last_commit_date: 2024-04-30 10:17:25 -0400 (Tue, 30 Apr 2024)